BEGIN:VCALENDAR
VERSION:2.0
PRODID:-//REHDON College &amp; School - ECPv6.14.0//NONSGML v1.0//EN
CALSCALE:GREGORIAN
METHOD:PUBLISH
X-WR-CALNAME:REHDON College &amp; School
X-ORIGINAL-URL:https://rehdon.edu.np
X-WR-CALDESC:Events for REHDON College &amp; School
REFRESH-INTERVAL;VALUE=DURATION:PT1H
X-Robots-Tag:noindex
X-PUBLISHED-TTL:PT1H
BEGIN:VTIMEZONE
TZID:Asia/Kathmandu
BEGIN:STANDARD
TZOFFSETFROM:+0545
TZOFFSETTO:+0545
TZNAME:+0545
DTSTART:20250101T000000
END:STANDARD
END:VTIMEZONE
BEGIN:VEVENT
DTSTART;VALUE=DATE:20251216
DTEND;VALUE=DATE:20251217
DTSTAMP:20260421T013053
CREATED:20250613T025639Z
LAST-MODIFIED:20250613T025639Z
UID:3086-1765843200-1765929599@rehdon.edu.np
SUMMARY:REHDON Got Talent Show (SCHOOL)
DESCRIPTION:REHDON Got Talent Show (SCHOOL)
URL:https://rehdon.edu.np/event/rehdon-got-talent-show-school/
LOCATION:REHDON School\, Samakhusi\, Kathmandu\, Bagmati\, Nepal
CATEGORIES:Pre-School,School
END:VEVENT
BEGIN:VEVENT
DTSTART;VALUE=DATE:20251231
DTEND;VALUE=DATE:20260101
DTSTAMP:20260421T013053
CREATED:20250613T025741Z
LAST-MODIFIED:20250613T025741Z
UID:3089-1767139200-1767225599@rehdon.edu.np
SUMMARY:Third Term Examination Start (SCHOOL)
DESCRIPTION:Third Term Examination Start (SCHOOL)
URL:https://rehdon.edu.np/event/third-term-examination-start-school/
LOCATION:REHDON School\, Samakhusi\, Kathmandu\, Bagmati\, Nepal
CATEGORIES:Pre-School,School
END:VEVENT
BEGIN:VEVENT
DTSTART;VALUE=DATE:20260123
DTEND;VALUE=DATE:20260124
DTSTAMP:20260421T013053
CREATED:20250613T030109Z
LAST-MODIFIED:20250613T030109Z
UID:3095-1769126400-1769212799@rehdon.edu.np
SUMMARY:Saraswati Puja Celebration
DESCRIPTION:Saraswati Puja Celebration
URL:https://rehdon.edu.np/event/saraswati-puja-celebration/
LOCATION:REHDON School\, Samakhusi\, Kathmandu\, Bagmati\, Nepal
CATEGORIES:BBS,College,Pre-School,School
END:VEVENT
BEGIN:VEVENT
DTSTART;VALUE=DATE:20260125
DTEND;VALUE=DATE:20260126
DTSTAMP:20260421T013053
CREATED:20250613T030446Z
LAST-MODIFIED:20250613T030446Z
UID:3101-1769299200-1769385599@rehdon.edu.np
SUMMARY:Annual Sports Week Events Start (SCHOOL)
DESCRIPTION:Annual Sports Week Events Start (SCHOOL)
URL:https://rehdon.edu.np/event/annual-sports-week-events-start-school/
LOCATION:REHDON School\, Samakhusi\, Kathmandu\, Bagmati\, Nepal
CATEGORIES:Pre-School,School
END:VEVENT
BEGIN:VEVENT
DTSTART;TZID=Asia/Kathmandu:20260206T160000
DTEND;TZID=Asia/Kathmandu:20260206T170000
DTSTAMP:20260421T013053
CREATED:20250613T030646Z
LAST-MODIFIED:20250613T030646Z
UID:3107-1770393600-1770397200@rehdon.edu.np
SUMMARY:Monthly Teacher's Meeting (SCHOOL)
DESCRIPTION:Monthly Teacher’s Meeting (SCHOOL)
URL:https://rehdon.edu.np/event/monthly-teachers-meeting-school-8/
LOCATION:REHDON School\, Samakhusi\, Kathmandu\, Bagmati\, Nepal
CATEGORIES:Pre-School,School
END:VEVENT
BEGIN:VEVENT
DTSTART;VALUE=DATE:20260208
DTEND;VALUE=DATE:20260209
DTSTAMP:20260421T013053
CREATED:20250613T030547Z
LAST-MODIFIED:20250613T030547Z
UID:3104-1770508800-1770595199@rehdon.edu.np
SUMMARY:Food Festival & Art Exhibition (SCHOOL)
DESCRIPTION:Food Festival & Art Exhibition (SCHOOL)
URL:https://rehdon.edu.np/event/food-festival-art-exhibition-school/
LOCATION:REHDON School\, Samakhusi\, Kathmandu\, Bagmati\, Nepal
CATEGORIES:Pre-School,School
END:VEVENT
BEGIN:VEVENT
DTSTART;TZID=Asia/Kathmandu:20260313T160000
DTEND;TZID=Asia/Kathmandu:20260313T170000
DTSTAMP:20260421T013053
CREATED:20250613T031254Z
LAST-MODIFIED:20250613T031254Z
UID:3114-1773417600-1773421200@rehdon.edu.np
SUMMARY:Monthly Teachers' Meeting (SCHOOL)
DESCRIPTION:Monthly Teachers’ Meeting (SCHOOL)
URL:https://rehdon.edu.np/event/monthly-teachers-meeting-school-9/
LOCATION:REHDON School\, Samakhusi\, Kathmandu\, Bagmati\, Nepal
CATEGORIES:Pre-School,School
END:VEVENT
BEGIN:VEVENT
DTSTART;VALUE=DATE:20260327
DTEND;VALUE=DATE:20260328
DTSTAMP:20260421T013053
CREATED:20250613T031455Z
LAST-MODIFIED:20250613T031455Z
UID:3117-1774569600-1774655999@rehdon.edu.np
SUMMARY:Annual Examination -2082 Starts (SCHOOL)
DESCRIPTION:Annual Examination -2082 Starts (SCHOOL)
URL:https://rehdon.edu.np/event/annual-examination-2082-starts-school/
LOCATION:BAGMATI NEPAL PROVINCE 3
CATEGORIES:Pre-School,School
END:VEVENT
BEGIN:VEVENT
DTSTART;VALUE=DATE:20260411
DTEND;VALUE=DATE:20260412
DTSTAMP:20260421T013053
CREATED:20250613T031550Z
LAST-MODIFIED:20250613T031550Z
UID:3120-1775865600-1775951999@rehdon.edu.np
SUMMARY:Annual Examination -2082 Result Distribution
DESCRIPTION:Annual Examination -2082 Result Distribution
URL:https://rehdon.edu.np/event/annual-examination-2082-result-distribution/
LOCATION:REHDON School & College\, REHDON SCHOOL COLLEGE\, KATHMANDU\, BAGMATI NEPAL PROVINCE 3\, 44600\, Nepal
CATEGORIES:Pre-School,School
END:VEVENT
END:VCALENDAR