BEGIN:VCALENDAR
VERSION:2.0
PRODID:-//REHDON College &amp; School - ECPv6.14.0//NONSGML v1.0//EN
CALSCALE:GREGORIAN
METHOD:PUBLISH
X-WR-CALNAME:REHDON College &amp; School
X-ORIGINAL-URL:https://rehdon.edu.np
X-WR-CALDESC:Events for REHDON College &amp; School
REFRESH-INTERVAL;VALUE=DURATION:PT1H
X-Robots-Tag:noindex
X-PUBLISHED-TTL:PT1H
BEGIN:VTIMEZONE
TZID:Asia/Kathmandu
BEGIN:STANDARD
TZOFFSETFROM:+0545
TZOFFSETTO:+0545
TZNAME:+0545
DTSTART:20250101T000000
END:STANDARD
END:VTIMEZONE
BEGIN:VEVENT
DTSTART;TZID=Asia/Kathmandu:20250616T080000
DTEND;TZID=Asia/Kathmandu:20250616T103000
DTSTAMP:20260421T154637
CREATED:20250613T032111Z
LAST-MODIFIED:20250613T032111Z
UID:3131-1750060800-1750069800@rehdon.edu.np
SUMMARY:Faculty Meeting (COLLEGE)
DESCRIPTION:Faculty Meeting (COLLEGE)
URL:https://rehdon.edu.np/event/faculty-meeting-college-2/
LOCATION:REHDON School & College\, REHDON SCHOOL COLLEGE\, KATHMANDU\, BAGMATI NEPAL PROVINCE 3\, 44600\, Nepal
CATEGORIES:BBS,College
END:VEVENT
END:VCALENDAR